BEGIN:VCALENDAR
VERSION:2.0
PRODID:-//time.now/holidays//NONSGML v1.0//EN
BEGIN:VEVENT
UID:cef1eee4-4531-4454-bd1a-917378c1ee9c
DTSTAMP:20260422T093554Z
DTSTART;VALUE=DATE:20280529
SUMMARY:Dragon Boat Festival (observed) (Taiwán)
END:VEVENT
END:VCALENDAR