BEGIN:VCALENDAR
VERSION:2.0
PRODID:-//time.now/holidays//NONSGML v1.0//EN
BEGIN:VEVENT
UID:cc977cc7-3285-447e-98ac-7f97a56c367d
DTSTAMP:20260420T211956Z
DTSTART;VALUE=DATE:20230227
SUMMARY:Day off (substituted from 02/18/2023) (Taiwán)
END:VEVENT
END:VCALENDAR