BEGIN:VCALENDAR
VERSION:2.0
PRODID:-//time.now/holidays//NONSGML v1.0//EN
BEGIN:VEVENT
UID:c5d51db4-8cfa-4758-b9da-1d32703233fc
DTSTAMP:20260422T180128Z
DTSTART;VALUE=DATE:20250127
SUMMARY:Day off (substituted from 02/08/2025) (Taiwán)
END:VEVENT
END:VCALENDAR