BEGIN:VCALENDAR
VERSION:2.0
PRODID:-//time.now/holidays//NONSGML v1.0//EN
BEGIN:VEVENT
UID:eb30ee67-9537-47de-87c8-355b5cddadea
DTSTAMP:20260420T191033Z
DTSTART;VALUE=DATE:20260217
SUMMARY:Chinese New Year (Taiwán)
END:VEVENT
END:VCALENDAR