BEGIN:VCALENDAR
VERSION:2.0
PRODID:-//time.now/holidays//NONSGML v1.0//EN
BEGIN:VEVENT
UID:c461d823-2bd2-4afa-ae0a-1b7d07d77bed
DTSTAMP:20260420T143149Z
DTSTART;VALUE=DATE:20261226
SUMMARY:Saint Stephen's Day (Suiza)
END:VEVENT
END:VCALENDAR