BEGIN:VCALENDAR
VERSION:2.0
PRODID:-//time.now/holidays//NONSGML v1.0//EN
BEGIN:VEVENT
UID:d215dc16-62b3-4cc7-aadc-b2d22c3bd915
DTSTAMP:20260420T191339Z
DTSTART;VALUE=DATE:20260319
SUMMARY:Saint Joseph's Day (Suiza)
END:VEVENT
END:VCALENDAR