BEGIN:VCALENDAR
VERSION:2.0
PRODID:-//time.now/holidays//NONSGML v1.0//EN
BEGIN:VEVENT
UID:24e75863-d156-4e53-beff-6bcff503ac08
DTSTAMP:20260420T112757Z
DTSTART;VALUE=DATE:20260921
SUMMARY:Prayer Monday (Suiza)
END:VEVENT
END:VCALENDAR