BEGIN:VCALENDAR
VERSION:2.0
PRODID:-//time.now/holidays//NONSGML v1.0//EN
BEGIN:VEVENT
UID:92f5a976-ae45-4b3c-885b-c7d4a4ef6fb3
DTSTAMP:20260420T194649Z
DTSTART;VALUE=DATE:20260801
SUMMARY:National Day (Suiza)
END:VEVENT
END:VCALENDAR