BEGIN:VCALENDAR
VERSION:2.0
PRODID:-//time.now/holidays//NONSGML v1.0//EN
BEGIN:VEVENT
UID:d4814dc1-8b23-4ffd-8f72-3aad994470e3
DTSTAMP:20260419T231408Z
DTSTART;VALUE=DATE:20261208
SUMMARY:Immaculate Conception (Suiza)
END:VEVENT
END:VCALENDAR