BEGIN:VCALENDAR
VERSION:2.0
PRODID:-//time.now/holidays//NONSGML v1.0//EN
BEGIN:VEVENT
UID:23cfe08f-57f0-4d53-ac5a-3a2d6f5f6d0f
DTSTAMP:20260420T094632Z
DTSTART;VALUE=DATE:20260403
SUMMARY:Good Friday (Suiza)
END:VEVENT
END:VCALENDAR