BEGIN:VCALENDAR
VERSION:2.0
PRODID:-//time.now/holidays//NONSGML v1.0//EN
BEGIN:VEVENT
UID:0deb447c-1644-45a8-9298-1a747506f9d1
DTSTAMP:20260420T160223Z
DTSTART;VALUE=DATE:20260604
SUMMARY:Corpus Christi (Suiza)
END:VEVENT
END:VCALENDAR