BEGIN:VCALENDAR
VERSION:2.0
PRODID:-//time.now/holidays//NONSGML v1.0//EN
BEGIN:VEVENT
UID:ad5be9dc-12b3-4e7b-be70-e6579d29df4b
DTSTAMP:20260420T185106Z
DTSTART;VALUE=DATE:20261225
SUMMARY:Christmas Day (Suiza)
END:VEVENT
END:VCALENDAR