BEGIN:VCALENDAR
VERSION:2.0
PRODID:-//time.now/holidays//NONSGML v1.0//EN
BEGIN:VEVENT
UID:03b29f75-6291-4d76-a1f1-7d6619ae7b47
DTSTAMP:20260420T171609Z
DTSTART;VALUE=DATE:20260514
SUMMARY:Ascension Day (Suiza)
END:VEVENT
END:VCALENDAR