BEGIN:VCALENDAR
VERSION:2.0
PRODID:-//time.now/holidays//NONSGML v1.0//EN
BEGIN:VEVENT
UID:49feceba-4f28-4575-b310-1add6629d89d
DTSTAMP:20260420T204942Z
DTSTART;VALUE=DATE:20260524
SUMMARY:Sunday; Whit Sunday (Suecia)
END:VEVENT
END:VCALENDAR