BEGIN:VCALENDAR
VERSION:2.0
PRODID:-//time.now/holidays//NONSGML v1.0//EN
BEGIN:VEVENT
UID:47193a43-5c33-424c-9f2f-51744908baeb
DTSTAMP:20260422T090238Z
DTSTART;VALUE=DATE:20281231
SUMMARY:New Year's Eve; Sunday (Suecia)
END:VEVENT
END:VCALENDAR