BEGIN:VCALENDAR
VERSION:2.0
PRODID:-//time.now/holidays//NONSGML v1.0//EN
BEGIN:VEVENT
UID:9b946cf3-8d18-4f93-a1f8-248114663326
DTSTAMP:20260420T161403Z
DTSTART;VALUE=DATE:20260405
SUMMARY:Easter Sunday; Sunday (Suecia)
END:VEVENT
END:VCALENDAR