BEGIN:VCALENDAR
VERSION:2.0
PRODID:-//time.now/holidays//NONSGML v1.0//EN
BEGIN:VEVENT
UID:6c7f5d0a-c2eb-4fcf-bce3-2d9d856fb18c
DTSTAMP:20260420T031005Z
DTSTART;VALUE=DATE:20260406
SUMMARY:Easter Monday (Suecia)
END:VEVENT
END:VCALENDAR