BEGIN:VCALENDAR
VERSION:2.0
PRODID:-//time.now/holidays//NONSGML v1.0//EN
BEGIN:VEVENT
UID:733b69af-7ee3-45a0-a9af-9f9d046ad91d
DTSTAMP:20260420T122140Z
DTSTART;VALUE=DATE:20260514
SUMMARY:Ascension Day (Suecia)
END:VEVENT
END:VCALENDAR