BEGIN:VCALENDAR
VERSION:2.0
PRODID:-//time.now/holidays//NONSGML v1.0//EN
BEGIN:VEVENT
UID:85267bf7-651f-4589-96c8-ffb049f92609
DTSTAMP:20260420T215501Z
DTSTART;VALUE=DATE:20260524
SUMMARY:Whit Sunday (Svalbard y Jan Mayen)
END:VEVENT
END:VCALENDAR