BEGIN:VCALENDAR
VERSION:2.0
PRODID:-//time.now/holidays//NONSGML v1.0//EN
BEGIN:VEVENT
UID:b901aa8f-c65a-4672-a029-01b5814ed61d
DTSTAMP:20260420T174007Z
DTSTART;VALUE=DATE:20260406
SUMMARY:Easter Monday (Svalbard y Jan Mayen)
END:VEVENT
END:VCALENDAR