BEGIN:VCALENDAR
VERSION:2.0
PRODID:-//time.now/holidays//NONSGML v1.0//EN
BEGIN:VEVENT
UID:ab538139-2590-4f31-86bc-0cc450da2cd9
DTSTAMP:20260422T223828Z
DTSTART;VALUE=DATE:20270517
SUMMARY:Constitution Day; Whit Monday (Svalbard y Jan Mayen)
END:VEVENT
END:VCALENDAR