BEGIN:VCALENDAR
VERSION:2.0
PRODID:-//time.now/holidays//NONSGML v1.0//EN
BEGIN:VEVENT
UID:db185a88-4b32-4b4e-8fe6-cd05c56c81cf
DTSTAMP:20260422T134407Z
DTSTART;VALUE=DATE:20261225
SUMMARY:Christmas Day (Svalbard y Jan Mayen)
END:VEVENT
END:VCALENDAR