BEGIN:VCALENDAR
VERSION:2.0
PRODID:-//time.now/holidays//NONSGML v1.0//EN
BEGIN:VEVENT
UID:76e19171-0652-4efe-8900-e553f9fcba99
DTSTAMP:20260420T111046Z
DTSTART;VALUE=DATE:20260501
SUMMARY:Labor Day (Surinam)
END:VEVENT
END:VCALENDAR