BEGIN:VCALENDAR
VERSION:2.0
PRODID:-//time.now/holidays//NONSGML v1.0//EN
BEGIN:VEVENT
UID:81cfae5a-6db3-457c-9112-68fb5b9276e6
DTSTAMP:20260420T051640Z
DTSTART;VALUE=DATE:20260303
SUMMARY:Holi (Surinam)
END:VEVENT
END:VCALENDAR