BEGIN:VCALENDAR
VERSION:2.0
PRODID:-//time.now/holidays//NONSGML v1.0//EN
BEGIN:VEVENT
UID:240fd69d-fc99-4685-bc3d-650c4ffc3a4e
DTSTAMP:20260420T080135Z
DTSTART;VALUE=DATE:20260403
SUMMARY:Good Friday (Surinam)
END:VEVENT
END:VCALENDAR