BEGIN:VCALENDAR
VERSION:2.0
PRODID:-//time.now/holidays//NONSGML v1.0//EN
BEGIN:VEVENT
UID:42c87945-1f76-42c3-9443-4d36e7516704
DTSTAMP:20260420T201137Z
DTSTART;VALUE=DATE:20260527
SUMMARY:Eid al-Adha (estimated) (Surinam)
END:VEVENT
END:VCALENDAR