BEGIN:VCALENDAR
VERSION:2.0
PRODID:-//time.now/holidays//NONSGML v1.0//EN
BEGIN:VEVENT
UID:0c57d6a6-13ed-4e44-8f38-b8046aa366e4
DTSTAMP:20260420T005751Z
DTSTART;VALUE=DATE:20260406
SUMMARY:Easter Monday (Surinam)
END:VEVENT
END:VCALENDAR