BEGIN:VCALENDAR
VERSION:2.0
PRODID:-//time.now/holidays//NONSGML v1.0//EN
BEGIN:VEVENT
UID:b21ae3ed-3e08-43f0-8339-57fb776aa54d
DTSTAMP:20260420T155330Z
DTSTART;VALUE=DATE:20261108
SUMMARY:Diwali (Surinam)
END:VEVENT
END:VCALENDAR