BEGIN:VCALENDAR
VERSION:2.0
PRODID:-//time.now/holidays//NONSGML v1.0//EN
BEGIN:VEVENT
UID:c38d85da-8a57-423d-81de-04f0903fee20
DTSTAMP:20260422T092727Z
DTSTART;VALUE=DATE:20261010
SUMMARY:Day of the Maroons (Surinam)
END:VEVENT
END:VCALENDAR