BEGIN:VCALENDAR
VERSION:2.0
PRODID:-//time.now/holidays//NONSGML v1.0//EN
BEGIN:VEVENT
UID:f3673ca9-9db3-4aa6-8459-c25d6185b21b
DTSTAMP:20260422T134445Z
DTSTART;VALUE=DATE:20251006
SUMMARY:Vap Full Moon Poya Day (Sri Lanka)
END:VEVENT
END:VCALENDAR