BEGIN:VCALENDAR
VERSION:2.0
PRODID:-//time.now/holidays//NONSGML v1.0//EN
BEGIN:VEVENT
UID:da3f3204-7e26-496a-a4b5-079deeefb575
DTSTAMP:20260422T085952Z
DTSTART;VALUE=DATE:20250808
SUMMARY:Nikini Full Moon Poya Day (Sri Lanka)
END:VEVENT
END:VCALENDAR