BEGIN:VCALENDAR
VERSION:2.0
PRODID:-//time.now/holidays//NONSGML v1.0//EN
BEGIN:VEVENT
UID:fa46fff0-3834-4d5a-a2f9-08498943430b
DTSTAMP:20260422T133349Z
DTSTART;VALUE=DATE:20251105
SUMMARY:Il Full Moon Poya Day (Sri Lanka)
END:VEVENT
END:VCALENDAR