BEGIN:VCALENDAR
VERSION:2.0
PRODID:-//time.now/holidays//NONSGML v1.0//EN
BEGIN:VEVENT
UID:5c504ead-5257-4a45-8c79-ae4d8266f5aa
DTSTAMP:20260420T204057Z
DTSTART;VALUE=DATE:20250331
SUMMARY:Eid al-Fitr (Sri Lanka)
END:VEVENT
END:VCALENDAR