BEGIN:VCALENDAR
VERSION:2.0
PRODID:-//time.now/holidays//NONSGML v1.0//EN
BEGIN:VEVENT
UID:7e98be30-8e72-41bf-985c-ce83c3c9aec9
DTSTAMP:20260423T014313Z
DTSTART;VALUE=DATE:20230703
SUMMARY:Adhi Esala Full Moon Poya Day (Sri Lanka)
END:VEVENT
END:VCALENDAR