BEGIN:VCALENDAR
VERSION:2.0
PRODID:-//time.now/holidays//NONSGML v1.0//EN
BEGIN:VEVENT
UID:69f3127d-6958-408c-9d76-9843d0decf1c
DTSTAMP:20260420T075959Z
DTSTART;VALUE=DATE:20260624
SUMMARY:Saint John the Baptist (España)
END:VEVENT
END:VCALENDAR