BEGIN:VCALENDAR
VERSION:2.0
PRODID:-//time.now/holidays//NONSGML v1.0//EN
BEGIN:VEVENT
UID:8a93bf24-16a2-4806-9309-daa43b99630c
DTSTAMP:20260421T005744Z
DTSTART;VALUE=DATE:20260911
SUMMARY:National Day of Catalonia (España)
END:VEVENT
END:VCALENDAR