BEGIN:VCALENDAR
VERSION:2.0
PRODID:-//time.now/holidays//NONSGML v1.0//EN
BEGIN:VEVENT
UID:9600c916-c256-44b2-9355-bd1a7cda780d
DTSTAMP:20260420T043243Z
DTSTART;VALUE=DATE:20260609
SUMMARY:Murcia Day (España)
END:VEVENT
END:VCALENDAR