BEGIN:VCALENDAR
VERSION:2.0
PRODID:-//time.now/holidays//NONSGML v1.0//EN
BEGIN:VEVENT
UID:0baa04b2-53f7-4090-b6ea-9fc91461b2c6
DTSTAMP:20260422T193237Z
DTSTART;VALUE=DATE:20280424
SUMMARY:Monday following Saint George's Day (España)
END:VEVENT
END:VCALENDAR