BEGIN:VCALENDAR
VERSION:2.0
PRODID:-//time.now/holidays//NONSGML v1.0//EN
BEGIN:VEVENT
UID:f577f9b0-d43c-4052-ad12-0434fb168d24
DTSTAMP:20260422T134356Z
DTSTART;VALUE=DATE:20251013
SUMMARY:Monday following National Day (España)
END:VEVENT
END:VCALENDAR