BEGIN:VCALENDAR
VERSION:2.0
PRODID:-//time.now/holidays//NONSGML v1.0//EN
BEGIN:VEVENT
UID:436afcc5-e2f9-4760-b428-3dd62ecc7452
DTSTAMP:20260420T063529Z
DTSTART;VALUE=DATE:20241209
SUMMARY:Monday following Immaculate Conception (España)
END:VEVENT
END:VCALENDAR