BEGIN:VCALENDAR
VERSION:2.0
PRODID:-//time.now/holidays//NONSGML v1.0//EN
BEGIN:VEVENT
UID:3a3c51ab-ce89-4c7c-820a-1dd1b68975c1
DTSTAMP:20260422T105202Z
DTSTART;VALUE=DATE:20270531
SUMMARY:Monday following Day of the Canary Islands (España)
END:VEVENT
END:VCALENDAR