BEGIN:VCALENDAR
VERSION:2.0
PRODID:-//time.now/holidays//NONSGML v1.0//EN
BEGIN:VEVENT
UID:7082dc34-6f5b-4c00-ac75-2ae9ffa6798e
DTSTAMP:20260420T095853Z
DTSTART;VALUE=DATE:20210816
SUMMARY:Monday following Assumption Day (España)
END:VEVENT
END:VCALENDAR