BEGIN:VCALENDAR
VERSION:2.0
PRODID:-//time.now/holidays//NONSGML v1.0//EN
BEGIN:VEVENT
UID:2e35d643-1357-493c-8b56-625d5214e7c2
DTSTAMP:20260424T131815Z
DTSTART;VALUE=DATE:20260530
SUMMARY:Day of the Canary Islands (España)
END:VEVENT
END:VCALENDAR