BEGIN:VCALENDAR
VERSION:2.0
PRODID:-//time.now/holidays//NONSGML v1.0//EN
BEGIN:VEVENT
UID:43633035-aa21-42b1-a95a-f61ff188342c
DTSTAMP:20260420T214924Z
DTSTART;VALUE=DATE:20260924
SUMMARY:The day preceding Chuseok (Corea del Sur)
END:VEVENT
END:VCALENDAR