BEGIN:VCALENDAR
VERSION:2.0
PRODID:-//time.now/holidays//NONSGML v1.0//EN
BEGIN:VEVENT
UID:04e08854-4710-4edb-b604-98964d34673d
DTSTAMP:20260422T223255Z
DTSTART;VALUE=DATE:20300403
SUMMARY:Presidential Election Day (Corea del Sur)
END:VEVENT
END:VCALENDAR