BEGIN:VCALENDAR
VERSION:2.0
PRODID:-//time.now/holidays//NONSGML v1.0//EN
BEGIN:VEVENT
UID:f8bd682e-1988-4684-ade1-e8ece02792cd
DTSTAMP:20260420T202022Z
DTSTART;VALUE=DATE:20260606
SUMMARY:Memorial Day (Corea del Sur)
END:VEVENT
END:VCALENDAR