BEGIN:VCALENDAR
VERSION:2.0
PRODID:-//time.now/holidays//NONSGML v1.0//EN
BEGIN:VEVENT
UID:d0b28071-e990-4b91-8f1e-ecebcbace9c7
DTSTAMP:20260422T223639Z
DTSTART;VALUE=DATE:20260301
SUMMARY:Independence Movement Day (Corea del Sur)
END:VEVENT
END:VCALENDAR