BEGIN:VCALENDAR
VERSION:2.0
PRODID:-//time.now/holidays//NONSGML v1.0//EN
BEGIN:VEVENT
UID:c509f0f6-a940-4590-a6da-4450fa0be5b1
DTSTAMP:20260422T091822Z
DTSTART;VALUE=DATE:20250505
SUMMARY:Buddha's Birthday; Children's Day (Corea del Sur)
END:VEVENT
END:VCALENDAR