BEGIN:VCALENDAR
VERSION:2.0
PRODID:-//time.now/holidays//NONSGML v1.0//EN
BEGIN:VEVENT
UID:71511e90-0567-40e0-b36e-737be66cda09
DTSTAMP:20260422T132452Z
DTSTART;VALUE=DATE:20270209
SUMMARY:Alternative holiday for Korean New Year (Corea del Sur)
END:VEVENT
END:VCALENDAR