BEGIN:VCALENDAR
VERSION:2.0
PRODID:-//time.now/holidays//NONSGML v1.0//EN
BEGIN:VEVENT
UID:4a512e11-35fd-4b70-8a6f-6e5bb1e539eb
DTSTAMP:20260422T105347Z
DTSTART;VALUE=DATE:20260302
SUMMARY:Alternative holiday for Independence Movement Day (Corea del Sur)
END:VEVENT
END:VCALENDAR